BEGIN:VCALENDAR
VERSION:2.0
PRODID:-//casaofsantacruz.org//NONSGML kigkonsult.se iCalcreator 2.30.10//
CALSCALE:GREGORIAN
METHOD:PUBLISH
UID:259dc2e8-1b70-4269-b7c1-8ce9c317889a
X-WR-CALDESC:When is lunch worth $100?  When it supports the CASA Children'
 s Fund -- created to enable CASA Advocates to purchase special items to en
 rich or just add normalcy o a CASA child's live. You'll hear dependency co
 urt Judge Rebecca Connolly give an update on the court.  The stories from 
 CASA youth in foster care will inspire you\, and bring you to tears.  All 
 proceeds from the luncheon go to the CASA Children's Fund.\n\nIf you would
  like to contribute directly to the CASA Children's Fund you can <a href='
 /how-to-help/donate.html'>CLICK HERE.</a>\n\nThank you!
X-WR-RELCALID:4a9094e916e55d196a0879f8808eed05
X-WR-TIMEZONE:America/Los_Angeles
BEGIN:VTIMEZONE
TZID:America/Los_Angeles
BEGIN:STANDARD
TZNAME:PST
DTSTART:20171105T020000
TZOFFSETFROM:-0700
TZOFFSETTO:-0800
RDATE:20181104T020000
END:STANDARD
BEGIN:DAYLIGHT
TZNAME:PDT
DTSTART:20170312T020000
TZOFFSETFROM:-0800
TZOFFSETTO:-0700
RDATE:20180311T020000
RDATE:20190310T020000
END:DAYLIGHT
END:VTIMEZONE
BEGIN:VEVENT
UID:71542d15-1918-4a92-be8f-56da846ec457
DTSTAMP:20260419T190939Z
DESCRIPTION:When is lunch worth $100?  When it supports the CASA Children's
  Fund -- created to enable CASA Advocates to purchase special items to enr
 ich or just add normalcy o a CASA child's live. You'll hear dependency cou
 rt Judge Rebecca Connolly give an update on the court.  The stories from C
 ASA youth in foster care will inspire you\, and bring you to tears.  All p
 roceeds from the luncheon go to the CASA Children's Fund.\n\nIf you would 
 like to contribute directly to the CASA Children's Fund you can <a href='/
 how-to-help/donate.html'>CLICK HERE.</a>\n\nThank you!
DTSTART;TZID=America/Los_Angeles:20180207T111500
DTEND;TZID=America/Los_Angeles:20180207T133000
LOCATION:Severino's Grill\, 7600 Old Dominion Ct.\, Aptos
SUMMARY:For the Love of Children Luncheon
END:VEVENT
END:VCALENDAR
