BEGIN:VCALENDAR
VERSION:2.0
PRODID:-//casaofsantacruz.org//NONSGML kigkonsult.se iCalcreator 2.30.10//
CALSCALE:GREGORIAN
METHOD:PUBLISH
UID:11aa77dd-74a1-40f5-a1a9-5e49f1edf28e
X-WR-CALDESC:Lift up a child's voice. Become a CASA Volunteer!\n\nCourt App
 ointed Special Advocates (CASA) of Santa Cruz County seeks adult volunteer
 s to advocate for children that have been abused\, neglected or abandoned.
  If you can devote 2-4 hours per week\, make a two-year commitment to help
  guide a child through a complex system of social workers\, foster parents
 \, therapists and lawyers\, while building a consistent\, caring\, mentori
 ng relationship\, then contact CASA of Santa Cruz County today at 831-761-
 2956 or casavolunteer@casaofsantacruz.org.\n\nYou may also <a href='/volun
 teer/information-meeting-signup.html' target='_blank' rel='noreferrer noop
 ener'>RSVP here</a>.\n\nVolunteer orientations are held throughout the cou
 nty\, and comprehensive training sessions are offered four times per year.
 \n\nTogether we can make a difference!
X-WR-RELCALID:fe524058268ac85e2e25c8d9d23cf0e6
X-WR-TIMEZONE:America/Chicago
BEGIN:VTIMEZONE
TZID:America/Chicago
BEGIN:STANDARD
TZNAME:CST
DTSTART:20171105T020000
TZOFFSETFROM:-0500
TZOFFSETTO:-0600
RDATE:20181104T020000
END:STANDARD
BEGIN:DAYLIGHT
TZNAME:CDT
DTSTART:20180311T020000
TZOFFSETFROM:-0600
TZOFFSETTO:-0500
RDATE:20190310T020000
END:DAYLIGHT
END:VTIMEZONE
BEGIN:VEVENT
UID:78a78008-08b9-4cca-9624-b7144997b3b8
DTSTAMP:20260422T182643Z
DESCRIPTION:Lift up a child's voice. Become a CASA Volunteer!\n\nCourt Appo
 inted Special Advocates (CASA) of Santa Cruz County seeks adult volunteers
  to advocate for children that have been abused\, neglected or abandoned. 
 If you can devote 2-4 hours per week\, make a two-year commitment to help 
 guide a child through a complex system of social workers\, foster parents\
 , therapists and lawyers\, while building a consistent\, caring\, mentorin
 g relationship\, then contact CASA of Santa Cruz County today at 831-761-2
 956 or casavolunteer@casaofsantacruz.org.\n\nYou may also <a href='/volunt
 eer/information-meeting-signup.html' target='_blank' rel='noreferrer noope
 ner'>RSVP here</a>.\n\nVolunteer orientations are held throughout the coun
 ty\, and comprehensive training sessions are offered four times per year.
 \n\nTogether we can make a difference!
DTSTART;TZID=America/Chicago:20180412T140000
DTEND;TZID=America/Chicago:20180412T150000
LOCATION:1414 Soquel Ave\, Santa Cruz\, CA 95062\, USA
SUMMARY:Orientation (Information Session for Prospective Advocates)
END:VEVENT
END:VCALENDAR
