BEGIN:VCALENDAR
VERSION:2.0
PRODID:-//casaofsantacruz.org//NONSGML kigkonsult.se iCalcreator 2.30.10//
CALSCALE:GREGORIAN
METHOD:PUBLISH
UID:f21e1c59-d061-4b4f-b3a2-061170768c1e
X-WR-CALDESC:We are pleased to announce the appointment of Lynne Petrovic a
 s our new Executive Director!\nYou are all invited to meet Lynne at one of
  two welcome events. This will be a casual opportunity to get to know Lynn
 e and help her get to know all the amazing community members she will be w
 orking with.\nRSVP at http://casaofsantacruz.org/welcome-new-…/welcome-new
 -ed.html
X-WR-RELCALID:5fb69dad0188b9cf35e3787155ff9dc8
X-WR-TIMEZONE:America/Los_Angeles
BEGIN:VTIMEZONE
TZID:America/Los_Angeles
BEGIN:STANDARD
TZNAME:PST
DTSTART:20171105T020000
TZOFFSETFROM:-0700
TZOFFSETTO:-0800
RDATE:20181104T020000
RDATE:20191103T020000
END:STANDARD
BEGIN:DAYLIGHT
TZNAME:PDT
DTSTART:20180311T020000
TZOFFSETFROM:-0800
TZOFFSETTO:-0700
RDATE:20190310T020000
END:DAYLIGHT
END:VTIMEZONE
BEGIN:VEVENT
UID:af6dea67-8631-4f73-8b75-fd2bbc5499bd
DTSTAMP:20260421T163329Z
DESCRIPTION:We are pleased to announce the appointment of Lynne Petrovic as
  our new Executive Director!\nYou are all invited to meet Lynne at one of 
 two welcome events. This will be a casual opportunity to get to know Lynne
  and help her get to know all the amazing community members she will be wo
 rking with.\nRSVP at http://casaofsantacruz.org/welcome-new-…/welcome-new-
 ed.html
DTSTART;TZID=America/Los_Angeles:20180906T093000
DTEND;TZID=America/Los_Angeles:20180906T113000
LOCATION:CASA\, 813 Freedom Blvd.\, Watsonville
SUMMARY:Meet CASA's new Executive Director
END:VEVENT
END:VCALENDAR
